BEGIN:VCALENDAR
VERSION:2.0
PRODID:-//hacksw/handcal//NONSGML v1.0//EN
BEGIN:VEVENT
SUMMARY:Soiree Jeux de societe : le calendrier
UID:d10dd834-bcb2-4ad0-b987-941bfd08523b
DTSTART:20260424T181500Z
DTEND:20260424T211500Z
LOCATION:Localisation   
CATEGORIES:Sportif
STATUS:
DESCRIPTION:<p>Nous nous reunissons chaque vendredi a la maison des
 associations route de Chassy, a  Aillant sur Tholon Montholon
 89</p>
 
 <p>Initiation au Jeu de Dames et aux Echecs pour joueurs
 debutants.</p>
 
 <p>Parties amicales pour tous niveaux ; entrainement
 a la pendule pour les joueurs qui s'entrainent a la competition -
 renseignements sur place aupres de Veronique</p>
 
 <p>200 autres jeux
 en tout genre sont a votre disposition pour jouer a volonte de 20h15
 a 23h20 jeux ranges.</p>
 
URL;VALUE=URI:https://damierclubdesens.sportsregions.fr/evenements/2026/04/24/soiree-jeux-de-societe-le-calendrier-2204368
END:VEVENT
END:VCALENDAR
